BEGIN:VCALENDAR
VERSION:2.0
PRODID:-//Lane Transit District - ECPv6.15.18//NONSGML v1.0//EN
CALSCALE:GREGORIAN
METHOD:PUBLISH
X-ORIGINAL-URL:https://www.ltd.org
X-WR-CALDESC:Events for Lane Transit District
REFRESH-INTERVAL;VALUE=DURATION:PT1H
X-Robots-Tag:noindex
X-PUBLISHED-TTL:PT1H
BEGIN:VTIMEZONE
TZID:America/Los_Angeles
BEGIN:DAYLIGHT
TZOFFSETFROM:-0800
TZOFFSETTO:-0700
TZNAME:PDT
DTSTART:20250309T100000
END:DAYLIGHT
BEGIN:STANDARD
TZOFFSETFROM:-0700
TZOFFSETTO:-0800
TZNAME:PST
DTSTART:20251102T090000
END:STANDARD
BEGIN:DAYLIGHT
TZOFFSETFROM:-0800
TZOFFSETTO:-0700
TZNAME:PDT
DTSTART:20260308T100000
END:DAYLIGHT
BEGIN:STANDARD
TZOFFSETFROM:-0700
TZOFFSETTO:-0800
TZNAME:PST
DTSTART:20261101T090000
END:STANDARD
BEGIN:DAYLIGHT
TZOFFSETFROM:-0800
TZOFFSETTO:-0700
TZNAME:PDT
DTSTART:20270314T100000
END:DAYLIGHT
BEGIN:STANDARD
TZOFFSETFROM:-0700
TZOFFSETTO:-0800
TZNAME:PST
DTSTART:20271107T090000
END:STANDARD
BEGIN:DAYLIGHT
TZOFFSETFROM:-0800
TZOFFSETTO:-0700
TZNAME:PDT
DTSTART:20280312T100000
END:DAYLIGHT
BEGIN:STANDARD
TZOFFSETFROM:-0700
TZOFFSETTO:-0800
TZNAME:PST
DTSTART:20281105T090000
END:STANDARD
END:VTIMEZONE
BEGIN:VEVENT
DTSTART;TZID=America/Los_Angeles:20260421T170000
DTEND;TZID=America/Los_Angeles:20260421T193000
DTSTAMP:20260421T032311
CREATED:20260401T170912Z
LAST-MODIFIED:20260416T184842Z
UID:10000136-1776790800-1776799800@www.ltd.org
SUMMARY:State Transportation Improvement Fund (STIF) Advisory Committee Meeting
DESCRIPTION:The State Transportation Improvement Fund (STIF) Advisory Committee advises and assists the District in carrying out the purposes of the Statewide Transportation Improvement Fund and prioritizing projects to be funded by population-based and employer-based STIF moneys received by the District. The Committee may also advise the District regarding the opportunities to coordinate STIF funded Projects with other local or regional transportation programs and services to improve transportation service delivery and reduce gaps in service.
URL:https://www.ltd.org/event/state-transportation-improvement-fund-stif-advisory-committee-meeting/
LOCATION:Glenwood Administrative Offices\, 3500 East 17th Avenue\, Eugene\, OR\, 97403\, United States
CATEGORIES:STIF Advisory Committee
END:VEVENT
BEGIN:VEVENT
DTSTART;TZID=America/Los_Angeles:20260428T173000
DTEND;TZID=America/Los_Angeles:20260428T190000
DTSTAMP:20260421T032311
CREATED:20251220T082636Z
LAST-MODIFIED:20260319T222123Z
UID:10000120-1777397400-1777402800@www.ltd.org
SUMMARY:Budget Committee Meeting
DESCRIPTION:The Budget Committee meets on an as-needed basis but generally convenes in the fourth quarter of each fiscal year in time to provide advice to the Board of Directors prior to the adoption of an annual budget. The Committee is composed of all seven Board members and seven citizen members. Each LTD Board member selects one citizen member to fill a term of three years.
URL:https://www.ltd.org/event/budget-committee-meeting-2/
LOCATION:Glenwood Administrative Offices\, 3500 East 17th Avenue\, Eugene\, OR\, 97403\, United States
CATEGORIES:Budget Committee,LTD Board
END:VEVENT
BEGIN:VEVENT
DTSTART;TZID=America/Los_Angeles:20260505T173000
DTEND;TZID=America/Los_Angeles:20260505T193000
DTSTAMP:20260421T032311
CREATED:20251220T082639Z
LAST-MODIFIED:20251220T082639Z
UID:10000123-1778002200-1778009400@www.ltd.org
SUMMARY:Strategic Planning Committee Meeting
DESCRIPTION:The Strategic Planning Committee (SPC) advises the LTD Board on long-term transit planning\, focusing on improving service reliability\, connections\, and access for all riders\, including transit-dependent communities. The committee includes LTD Board members\, local government representatives\, and community stakeholders\, ensuring diverse perspectives guide future transit investments. Meetings are held bi-monthly and are open to the public.
URL:https://www.ltd.org/event/strategic-planning-committee-meeting-4/
LOCATION:Glenwood Administrative Offices\, 3500 East 17th Avenue\, Eugene\, OR\, 97403\, United States
CATEGORIES:LTD Board,Strategic Planning Committtee
END:VEVENT
BEGIN:VEVENT
DTSTART;TZID=America/Los_Angeles:20260512T170000
DTEND;TZID=America/Los_Angeles:20260513T183000
DTSTAMP:20260421T032311
CREATED:20260403T213532Z
LAST-MODIFIED:20260403T214851Z
UID:10000137-1778605200-1778697000@www.ltd.org
SUMMARY:State Transportation Improvement Fund (STIF) Advisory Committee Meeting
DESCRIPTION:The State Transportation Improvement Fund (STIF) Advisory Committee advises and assists the District in carrying out the purposes of the Statewide Transportation Improvement Fund and prioritizing projects to be funded by population-based and employer-based STIF moneys received by the District. The Committee may also advise the District regarding the opportunities to coordinate STIF funded Projects with other local or regional transportation programs and services to improve transportation service delivery and reduce gaps in service.
URL:https://www.ltd.org/event/state-transportation-improvement-fund-stif-advisory-committee-meeting-2/
LOCATION:Glenwood Administrative Offices\, 3500 East 17th Avenue\, Eugene\, OR\, 97403\, United States
CATEGORIES:STIF Advisory Committee
END:VEVENT
BEGIN:VEVENT
DTSTART;TZID=America/Los_Angeles:20260520T173000
DTEND;TZID=America/Los_Angeles:20260520T190000
DTSTAMP:20260421T032311
CREATED:20251220T082824Z
LAST-MODIFIED:20251220T082824Z
UID:10000124-1779298200-1779303600@www.ltd.org
SUMMARY:May Board Meeting
DESCRIPTION:The Lane Transit District (LTD) Board of Directors meets monthly to discuss transit operations\, review strategic initiatives\, and make decisions that shape public transportation in our community. Meetings include updates from the CEO and committees\, public comment opportunities\, and Board action on policies\, contracts\, and service improvements. All meetings are open to the public and accessible online or in person\, ensuring transparency and community engagement in LTD’s decision-making.
URL:https://www.ltd.org/event/may-board-meeting/
LOCATION:Glenwood Administrative Offices\, 3500 East 17th Avenue\, Eugene\, OR\, 97403\, United States
CATEGORIES:LTD Board
END:VEVENT
BEGIN:VEVENT
DTSTART;TZID=America/Los_Angeles:20260521T110000
DTEND;TZID=America/Los_Angeles:20260521T120000
DTSTAMP:20260421T032311
CREATED:20260403T215234Z
LAST-MODIFIED:20260403T215549Z
UID:10000139-1779361200-1779364800@www.ltd.org
SUMMARY:Real Estate Committee Meeting
DESCRIPTION:The Real Estate Committee provides oversight and guidance on Lane Transit District’s real estate activities\, ensuring that property decisions support the agency’s long-term mobility\, operational\, and financial goals. The Committee reviews and advises on matters such as property acquisitions\, dispositions\, leases\, easements\, development opportunities\, and site planning for transit facilities. The Committee may make recommendations to the Board of Directors for actions requiring Board approval.
URL:https://www.ltd.org/event/real-estate-committee-meeting-2/
LOCATION:Glenwood Administrative Offices\, 3500 East 17th Avenue\, Eugene\, OR\, 97403\, United States
CATEGORIES:Real Estate Committee
END:VEVENT
BEGIN:VEVENT
DTSTART;TZID=America/Los_Angeles:20260525T000000
DTEND;TZID=America/Los_Angeles:20260525T235959
DTSTAMP:20260421T032311
CREATED:20251008T184312Z
LAST-MODIFIED:20251008T184312Z
UID:10000082-1779667200-1779753599@www.ltd.org
SUMMARY:Memorial Day
DESCRIPTION:Bus Services: Sunday Schedules\nAdministrative Offices: Closed\nEugene Customer Service Center: Modified Hours\nSpringfield Customer Service Center: Regular Hours
URL:https://www.ltd.org/event/memorial-day/2026-05-25/
LOCATION:OR
CATEGORIES:Holidays
END:VEVENT
BEGIN:VEVENT
DTSTART;TZID=America/Los_Angeles:20260602T173000
DTEND;TZID=America/Los_Angeles:20260602T193000
DTSTAMP:20260421T032311
CREATED:20251220T082825Z
LAST-MODIFIED:20251220T082825Z
UID:10000125-1780421400-1780428600@www.ltd.org
SUMMARY:Strategic Planning Committee Meeting
DESCRIPTION:The Strategic Planning Committee (SPC) advises the LTD Board on long-term transit planning\, focusing on improving service reliability\, connections\, and access for all riders\, including transit-dependent communities. The committee includes LTD Board members\, local government representatives\, and community stakeholders\, ensuring diverse perspectives guide future transit investments. Meetings are held bi-monthly and are open to the public.
URL:https://www.ltd.org/event/strategic-planning-committee-meeting-5/
LOCATION:Glenwood Administrative Offices\, 3500 East 17th Avenue\, Eugene\, OR\, 97403\, United States
CATEGORIES:LTD Board,Strategic Planning Committtee
END:VEVENT
BEGIN:VEVENT
DTSTART;TZID=America/Los_Angeles:20260609T170000
DTEND;TZID=America/Los_Angeles:20260609T183000
DTSTAMP:20260421T032311
CREATED:20260403T214703Z
LAST-MODIFIED:20260403T214703Z
UID:10000138-1781024400-1781029800@www.ltd.org
SUMMARY:State Transportation Improvement Fund (STIF) Advisory Committee Meeting
DESCRIPTION:The State Transportation Improvement Fund (STIF) Advisory Committee advises and assists the District in carrying out the purposes of the Statewide Transportation Improvement Fund and prioritizing projects to be funded by population-based and employer-based STIF moneys received by the District. The Committee may also advise the District regarding the opportunities to coordinate STIF funded Projects with other local or regional transportation programs and services to improve transportation service delivery and reduce gaps in service.
URL:https://www.ltd.org/event/state-transportation-improvement-fund-stif-advisory-committee-meeting-3/
LOCATION:Glenwood Administrative Offices\, 3500 East 17th Avenue\, Eugene\, OR\, 97403\, United States
CATEGORIES:STIF Advisory Committee
END:VEVENT
BEGIN:VEVENT
DTSTART;TZID=America/Los_Angeles:20260617T173000
DTEND;TZID=America/Los_Angeles:20260617T190000
DTSTAMP:20260421T032311
CREATED:20251220T082826Z
LAST-MODIFIED:20251220T082826Z
UID:10000126-1781717400-1781722800@www.ltd.org
SUMMARY:June Board Meeting
DESCRIPTION:The Lane Transit District (LTD) Board of Directors meets monthly to discuss transit operations\, review strategic initiatives\, and make decisions that shape public transportation in our community. Meetings include updates from the CEO and committees\, public comment opportunities\, and Board action on policies\, contracts\, and service improvements. All meetings are open to the public and accessible online or in person\, ensuring transparency and community engagement in LTD’s decision-making.
URL:https://www.ltd.org/event/june-board-meeting/
LOCATION:Glenwood Administrative Offices\, 3500 East 17th Avenue\, Eugene\, OR\, 97403\, United States
CATEGORIES:LTD Board
END:VEVENT
BEGIN:VEVENT
DTSTART;TZID=America/Los_Angeles:20260619T000000
DTEND;TZID=America/Los_Angeles:20260619T235959
DTSTAMP:20260421T032311
CREATED:20251008T184426Z
LAST-MODIFIED:20251008T184426Z
UID:10000087-1781827200-1781913599@www.ltd.org
SUMMARY:Juneteenth
DESCRIPTION:Bus Services: Regular Schedules\nAdministrative Offices: Closed\nEugene Customer Service Center: Regular Hours\nSpringfield Customer Service Center: Regular Hours
URL:https://www.ltd.org/event/juneteenth/2026-06-19/
LOCATION:OR
CATEGORIES:Holidays
END:VEVENT
BEGIN:VEVENT
DTSTART;TZID=America/Los_Angeles:20260704T000000
DTEND;TZID=America/Los_Angeles:20260704T235959
DTSTAMP:20260421T032311
CREATED:20251008T184551Z
LAST-MODIFIED:20251008T184551Z
UID:10000092-1783123200-1783209599@www.ltd.org
SUMMARY:Independence Day
DESCRIPTION:Bus Services: Sunday Schedules\nAdministrative Offices: Closed\nEugene Customer Service Center: Modified Hours\nSpringfield Customer Service Center: Regular Hours
URL:https://www.ltd.org/event/independence-day/2026-07-04/
LOCATION:OR
CATEGORIES:Holidays
END:VEVENT
BEGIN:VEVENT
DTSTART;TZID=America/Los_Angeles:20260819T173000
DTEND;TZID=America/Los_Angeles:20260819T190000
DTSTAMP:20260421T032311
CREATED:20251220T082826Z
LAST-MODIFIED:20251220T082826Z
UID:10000127-1787160600-1787166000@www.ltd.org
SUMMARY:August Board Meeting
DESCRIPTION:The Lane Transit District (LTD) Board of Directors meets monthly to discuss transit operations\, review strategic initiatives\, and make decisions that shape public transportation in our community. Meetings include updates from the CEO and committees\, public comment opportunities\, and Board action on policies\, contracts\, and service improvements. All meetings are open to the public and accessible online or in person\, ensuring transparency and community engagement in LTD’s decision-making.
URL:https://www.ltd.org/event/august-board-meeting/
LOCATION:Glenwood Administrative Offices\, 3500 East 17th Avenue\, Eugene\, OR\, 97403\, United States
CATEGORIES:LTD Board
END:VEVENT
BEGIN:VEVENT
DTSTART;TZID=America/Los_Angeles:20260901T173000
DTEND;TZID=America/Los_Angeles:20260901T193000
DTSTAMP:20260421T032311
CREATED:20251220T082827Z
LAST-MODIFIED:20251220T082827Z
UID:10000128-1788283800-1788291000@www.ltd.org
SUMMARY:Strategic Planning Committee Meeting
DESCRIPTION:The Strategic Planning Committee (SPC) advises the LTD Board on long-term transit planning\, focusing on improving service reliability\, connections\, and access for all riders\, including transit-dependent communities. The committee includes LTD Board members\, local government representatives\, and community stakeholders\, ensuring diverse perspectives guide future transit investments. Meetings are held bi-monthly and are open to the public.
URL:https://www.ltd.org/event/strategic-planning-committee-meeting-6/
LOCATION:Glenwood Administrative Offices\, 3500 East 17th Avenue\, Eugene\, OR\, 97403\, United States
CATEGORIES:LTD Board,Strategic Planning Committtee
END:VEVENT
BEGIN:VEVENT
DTSTART;TZID=America/Los_Angeles:20260907T000000
DTEND;TZID=America/Los_Angeles:20260907T235959
DTSTAMP:20260421T032311
CREATED:20251008T184710Z
LAST-MODIFIED:20251008T184710Z
UID:10000097-1788739200-1788825599@www.ltd.org
SUMMARY:Labor Day
DESCRIPTION:Bus Services: Sunday Schedules\nAdministrative Offices: Closed\nEugene Customer Service Center: Modified Hours\nSpringfield Customer Service Center: Regular Hours
URL:https://www.ltd.org/event/labor-day/2026-09-07/
LOCATION:OR
CATEGORIES:Holidays
END:VEVENT
BEGIN:VEVENT
DTSTART;TZID=America/Los_Angeles:20260916T173000
DTEND;TZID=America/Los_Angeles:20260916T190000
DTSTAMP:20260421T032311
CREATED:20251220T082907Z
LAST-MODIFIED:20251220T082907Z
UID:10000129-1789579800-1789585200@www.ltd.org
SUMMARY:September Board Meeting
DESCRIPTION:The Lane Transit District (LTD) Board of Directors meets monthly to discuss transit operations\, review strategic initiatives\, and make decisions that shape public transportation in our community. Meetings include updates from the CEO and committees\, public comment opportunities\, and Board action on policies\, contracts\, and service improvements. All meetings are open to the public and accessible online or in person\, ensuring transparency and community engagement in LTD’s decision-making.
URL:https://www.ltd.org/event/september-board-meeting/
LOCATION:Glenwood Administrative Offices\, 3500 East 17th Avenue\, Eugene\, OR\, 97403\, United States
CATEGORIES:LTD Board
END:VEVENT
BEGIN:VEVENT
DTSTART;TZID=America/Los_Angeles:20261012T000000
DTEND;TZID=America/Los_Angeles:20261012T235959
DTSTAMP:20260421T032311
CREATED:20251008T182950Z
LAST-MODIFIED:20251008T182950Z
UID:10000043-1791763200-1791849599@www.ltd.org
SUMMARY:Indigenous Peoples’ Day
DESCRIPTION:Bus Services: Regular Schedules\nAdministrative Offices: Regular Hours\nEugene Customer Service Center: Regular Hours\nSpringfield Customer Service Center: Regular Hours
URL:https://www.ltd.org/event/indigenous-peoples-day/2026-10-12/
LOCATION:OR
CATEGORIES:Holidays
END:VEVENT
BEGIN:VEVENT
DTSTART;TZID=America/Los_Angeles:20261021T173000
DTEND;TZID=America/Los_Angeles:20261021T190000
DTSTAMP:20260421T032311
CREATED:20251220T082908Z
LAST-MODIFIED:20251220T082908Z
UID:10000130-1792603800-1792609200@www.ltd.org
SUMMARY:October Board Meeting
DESCRIPTION:The Lane Transit District (LTD) Board of Directors meets monthly to discuss transit operations\, review strategic initiatives\, and make decisions that shape public transportation in our community. Meetings include updates from the CEO and committees\, public comment opportunities\, and Board action on policies\, contracts\, and service improvements. All meetings are open to the public and accessible online or in person\, ensuring transparency and community engagement in LTD’s decision-making.
URL:https://www.ltd.org/event/october-board-meeting/
LOCATION:Glenwood Administrative Offices\, 3500 East 17th Avenue\, Eugene\, OR\, 97403\, United States
CATEGORIES:LTD Board
END:VEVENT
BEGIN:VEVENT
DTSTART;TZID=America/Los_Angeles:20261103T173000
DTEND;TZID=America/Los_Angeles:20261103T193000
DTSTAMP:20260421T032311
CREATED:20251220T082908Z
LAST-MODIFIED:20251231T192343Z
UID:10000131-1793727000-1793734200@www.ltd.org
SUMMARY:Strategic Planning Committee Meeting
DESCRIPTION:The Strategic Planning Committee (SPC) advises the LTD Board on long-term transit planning\, focusing on improving service reliability\, connections\, and access for all riders\, including transit-dependent communities. The committee includes LTD Board members\, local government representatives\, and community stakeholders\, ensuring diverse perspectives guide future transit investments. Meetings are held bi-monthly and are open to the public.
URL:https://www.ltd.org/event/strategic-planning-committee-meeting-7/
LOCATION:Glenwood Administrative Offices\, 3500 East 17th Avenue\, Eugene\, OR\, 97403\, United States
CATEGORIES:LTD Board,Strategic Planning Committtee
END:VEVENT
BEGIN:VEVENT
DTSTART;TZID=America/Los_Angeles:20261110T173000
DTEND;TZID=America/Los_Angeles:20261110T190000
DTSTAMP:20260421T032311
CREATED:20251220T082909Z
LAST-MODIFIED:20251220T082909Z
UID:10000132-1794331800-1794337200@www.ltd.org
SUMMARY:Budget Committee Meeting
DESCRIPTION:The Budget Committee meets on an as-needed basis but generally convenes in the fourth quarter of each fiscal year in time to provide advice to the Board of Directors prior to the adoption of an annual budget. The Committee is composed of all seven Board members and seven citizen members. Each LTD Board member selects one citizen member to fill a term of three years.
URL:https://www.ltd.org/event/budget-committee-meeting-3/
LOCATION:Glenwood Administrative Offices\, 3500 East 17th Avenue\, Eugene\, OR\, 97403\, United States
CATEGORIES:Budget Committee,LTD Board
END:VEVENT
BEGIN:VEVENT
DTSTART;TZID=America/Los_Angeles:20261111T000000
DTEND;TZID=America/Los_Angeles:20261111T235959
DTSTAMP:20260421T032311
CREATED:20251008T183124Z
LAST-MODIFIED:20251008T183124Z
UID:10000048-1794355200-1794441599@www.ltd.org
SUMMARY:Veterans Day
DESCRIPTION:Bus Services: Regular Schedules\nAdministrative Offices: Regular Hours\nEugene Customer Service Center: Regular Hours\nSpringfield Customer Service Center: Regular Hours
URL:https://www.ltd.org/event/veterans-day/2026-11-11/
LOCATION:OR
CATEGORIES:Holidays
END:VEVENT
BEGIN:VEVENT
DTSTART;TZID=America/Los_Angeles:20261118T173000
DTEND;TZID=America/Los_Angeles:20261118T190000
DTSTAMP:20260421T032311
CREATED:20251220T082910Z
LAST-MODIFIED:20251220T082910Z
UID:10000133-1795023000-1795028400@www.ltd.org
SUMMARY:November Board Meeting
DESCRIPTION:The Lane Transit District (LTD) Board of Directors meets monthly to discuss transit operations\, review strategic initiatives\, and make decisions that shape public transportation in our community. Meetings include updates from the CEO and committees\, public comment opportunities\, and Board action on policies\, contracts\, and service improvements. All meetings are open to the public and accessible online or in person\, ensuring transparency and community engagement in LTD’s decision-making.
URL:https://www.ltd.org/event/november-board-meeting/
LOCATION:Glenwood Administrative Offices\, 3500 East 17th Avenue\, Eugene\, OR\, 97403\, United States
CATEGORIES:LTD Board
END:VEVENT
BEGIN:VEVENT
DTSTART;TZID=America/Los_Angeles:20261126T000000
DTEND;TZID=America/Los_Angeles:20261126T235959
DTSTAMP:20260421T032311
CREATED:20251008T183259Z
LAST-MODIFIED:20251008T183345Z
UID:10000053-1795651200-1795737599@www.ltd.org
SUMMARY:Thanksgiving Day
DESCRIPTION:Bus Services: No Service\nAdministrative Offices: Closed\nEugene Customer Service Center: Closed\nSpringfield Customer Service Center: Closed
URL:https://www.ltd.org/event/thanksgiving-day/2026-11-26/
LOCATION:OR
CATEGORIES:Holidays
END:VEVENT
BEGIN:VEVENT
DTSTART;TZID=America/Los_Angeles:20261127T000000
DTEND;TZID=America/Los_Angeles:20261127T235959
DTSTAMP:20260421T032311
CREATED:20251008T183611Z
LAST-MODIFIED:20251008T183611Z
UID:10000058-1795737600-1795823999@www.ltd.org
SUMMARY:Day After Thanksgiving
DESCRIPTION:Bus Services: Regular Schedules\nAdministrative Offices: Closed\nEugene Customer Service Center: Regular Hours\nSpringfield Customer Service Center: Regular Hours
URL:https://www.ltd.org/event/day-after-thanksgiving/2026-11-27/
LOCATION:OR
CATEGORIES:Holidays
END:VEVENT
BEGIN:VEVENT
DTSTART;TZID=America/Los_Angeles:20261216T173000
DTEND;TZID=America/Los_Angeles:20261216T190000
DTSTAMP:20260421T032311
CREATED:20251220T082922Z
LAST-MODIFIED:20251231T192414Z
UID:10000134-1797442200-1797447600@www.ltd.org
SUMMARY:December Board Meeting
DESCRIPTION:The Lane Transit District (LTD) Board of Directors meets monthly to discuss transit operations\, review strategic initiatives\, and make decisions that shape public transportation in our community. Meetings include updates from the CEO and committees\, public comment opportunities\, and Board action on policies\, contracts\, and service improvements. All meetings are open to the public and accessible online or in person\, ensuring transparency and community engagement in LTD’s decision-making.
URL:https://www.ltd.org/event/december-board-meeting/
LOCATION:Glenwood Administrative Offices\, 3500 East 17th Avenue\, Eugene\, OR\, 97403\, United States
CATEGORIES:LTD Board
END:VEVENT
BEGIN:VEVENT
DTSTART;TZID=America/Los_Angeles:20261224T000000
DTEND;TZID=America/Los_Angeles:20261224T235959
DTSTAMP:20260421T032311
CREATED:20251008T183718Z
LAST-MODIFIED:20251008T183718Z
UID:10000063-1798070400-1798156799@www.ltd.org
SUMMARY:Christmas Eve
DESCRIPTION:Bus Services: Regular Schedules\, but last buses depart at 7:30 p.m.\nAdministrative Offices: Regular Hours\nEugene Customer Service Center: Regular Hours\nSpringfield Customer Service Center: Regular Hours
URL:https://www.ltd.org/event/christmas-eve/2026-12-24/
LOCATION:OR
CATEGORIES:Holidays
END:VEVENT
BEGIN:VEVENT
DTSTART;TZID=America/Los_Angeles:20261225T000000
DTEND;TZID=America/Los_Angeles:20261225T235959
DTSTAMP:20260421T032311
CREATED:20251008T183818Z
LAST-MODIFIED:20251008T183818Z
UID:10000068-1798156800-1798243199@www.ltd.org
SUMMARY:Christmas Day
DESCRIPTION:Bus Services: No Service\nAdministrative Offices: Closed\nEugene Customer Service Center: Closed\nSpringfield Customer Service Center: Closed
URL:https://www.ltd.org/event/christmas-day/2026-12-25/
LOCATION:OR
CATEGORIES:Holidays
END:VEVENT
BEGIN:VEVENT
DTSTART;TZID=America/Los_Angeles:20261231T000000
DTEND;TZID=America/Los_Angeles:20261231T235959
DTSTAMP:20260421T032311
CREATED:20251008T183917Z
LAST-MODIFIED:20251008T183917Z
UID:10000073-1798675200-1798761599@www.ltd.org
SUMMARY:New Year’s Eve
DESCRIPTION:Bus Services: Regular Schedules\nAdministrative Offices: Regular Hours\nEugene Customer Service Center: Regular Hours\nSpringfield Customer Service Center: Regular Hours
URL:https://www.ltd.org/event/new-years-eve/2026-12-31/
LOCATION:OR
CATEGORIES:Holidays
END:VEVENT
BEGIN:VEVENT
DTSTART;TZID=America/Los_Angeles:20270101T000000
DTEND;TZID=America/Los_Angeles:20270101T235959
DTSTAMP:20260421T032311
CREATED:20251003T191523Z
LAST-MODIFIED:20251008T184918Z
UID:10000033-1798761600-1798847999@www.ltd.org
SUMMARY:New Year’s Day
DESCRIPTION:Bus Services: Sunday Schedules\nAdministrative Offices: Closed\nEugene Customer Service Center: Modified Hours\nSpringfield Customer Service Center: Regular Hours
URL:https://www.ltd.org/event/new-years-day/2027-01-01/
LOCATION:OR
CATEGORIES:Holidays
END:VEVENT
BEGIN:VEVENT
DTSTART;TZID=America/Los_Angeles:20270118T000000
DTEND;TZID=America/Los_Angeles:20270118T235959
DTSTAMP:20260421T032311
CREATED:20251003T191524Z
LAST-MODIFIED:20251008T184949Z
UID:10000038-1800230400-1800316799@www.ltd.org
SUMMARY:Martin Luther King\, Jr. Day
DESCRIPTION:Bus Services: Regular Schedules\nAdministrative Offices: Closed\nEugene Customer Service Center: Regular Hours\nSpringfield Customer Service Center: Regular Hours
URL:https://www.ltd.org/event/martin-luther-king-jr-day/2027-01-18/
LOCATION:OR
CATEGORIES:Holidays
END:VEVENT
END:VCALENDAR