BEGIN:VCALENDAR
VERSION:2.0
PRODID:-//Lane Transit District - ECPv6.15.18//NONSGML v1.0//EN
CALSCALE:GREGORIAN
METHOD:PUBLISH
X-WR-CALNAME:Lane Transit District
X-ORIGINAL-URL:https://www.ltd.org
X-WR-CALDESC:Events for Lane Transit District
REFRESH-INTERVAL;VALUE=DURATION:PT1H
X-Robots-Tag:noindex
X-PUBLISHED-TTL:PT1H
BEGIN:VTIMEZONE
TZID:America/Los_Angeles
BEGIN:DAYLIGHT
TZOFFSETFROM:-0800
TZOFFSETTO:-0700
TZNAME:PDT
DTSTART:20240310T100000
END:DAYLIGHT
BEGIN:STANDARD
TZOFFSETFROM:-0700
TZOFFSETTO:-0800
TZNAME:PST
DTSTART:20241103T090000
END:STANDARD
BEGIN:DAYLIGHT
TZOFFSETFROM:-0800
TZOFFSETTO:-0700
TZNAME:PDT
DTSTART:20250309T100000
END:DAYLIGHT
BEGIN:STANDARD
TZOFFSETFROM:-0700
TZOFFSETTO:-0800
TZNAME:PST
DTSTART:20251102T090000
END:STANDARD
BEGIN:DAYLIGHT
TZOFFSETFROM:-0800
TZOFFSETTO:-0700
TZNAME:PDT
DTSTART:20260308T100000
END:DAYLIGHT
BEGIN:STANDARD
TZOFFSETFROM:-0700
TZOFFSETTO:-0800
TZNAME:PST
DTSTART:20261101T090000
END:STANDARD
END:VTIMEZONE
BEGIN:VEVENT
DTSTART;TZID=America/Los_Angeles:20251225T000000
DTEND;TZID=America/Los_Angeles:20251225T235959
DTSTAMP:20260421T063950
CREATED:20251008T183818Z
LAST-MODIFIED:20251008T183818Z
UID:10000067-1766620800-1766707199@www.ltd.org
SUMMARY:Christmas Day
DESCRIPTION:Bus Services: No Service\nAdministrative Offices: Closed\nEugene Customer Service Center: Closed\nSpringfield Customer Service Center: Closed
URL:https://www.ltd.org/event/christmas-day/2025-12-25/
LOCATION:OR
CATEGORIES:Holidays
END:VEVENT
BEGIN:VEVENT
DTSTART;TZID=America/Los_Angeles:20251224T000000
DTEND;TZID=America/Los_Angeles:20251224T235959
DTSTAMP:20260421T063950
CREATED:20251008T183718Z
LAST-MODIFIED:20251008T183718Z
UID:10000062-1766534400-1766620799@www.ltd.org
SUMMARY:Christmas Eve
DESCRIPTION:Bus Services: Regular Schedules\, but last buses depart at 7:30 p.m.\nAdministrative Offices: Regular Hours\nEugene Customer Service Center: Regular Hours\nSpringfield Customer Service Center: Regular Hours
URL:https://www.ltd.org/event/christmas-eve/2025-12-24/
LOCATION:OR
CATEGORIES:Holidays
END:VEVENT
BEGIN:VEVENT
DTSTART;TZID=America/Los_Angeles:20251223T150000
DTEND;TZID=America/Los_Angeles:20251223T170000
DTSTAMP:20260421T063950
CREATED:20251112T200323Z
LAST-MODIFIED:20251112T200323Z
UID:10000109-1766502000-1766509200@www.ltd.org
SUMMARY:Sounds of the Season - Maya Wagner
DESCRIPTION:Celebrate winter in the heart of Downtown Eugene! Enjoy live music and performances from local artists to bring warmth to your day. Stop by\, take a break\, and experience the sounds of the season with LTD.
URL:https://www.ltd.org/event/sounds-of-the-season-maya-wagner/
LOCATION:Customer Service Center\, 1080 Willamette Street\, Eugene\, OR\, 97401\, United States
CATEGORIES:Sounds of the Season
END:VEVENT
BEGIN:VEVENT
DTSTART;TZID=America/Los_Angeles:20251217T173000
DTEND;TZID=America/Los_Angeles:20251217T190000
DTSTAMP:20260421T063950
CREATED:20250820T010516Z
LAST-MODIFIED:20251216T162420Z
UID:10000026-1765992600-1765998000@www.ltd.org
SUMMARY:LTD Board
DESCRIPTION:The Lane Transit District (LTD) Board of Directors meets monthly to discuss transit operations\, review strategic initiatives\, and make decisions that shape public transportation in our community. Meetings include updates from the CEO and committees\, public comment opportunities\, and Board action on policies\, contracts\, and service improvements. All meetings are open to the public and accessible online or in person\, ensuring transparency and community engagement in LTD’s decision-making.
URL:https://www.ltd.org/event/ltd-board-4/
LOCATION:Glenwood Administrative Offices\, 3500 East 17th Avenue\, Eugene\, OR\, 97403\, United States
CATEGORIES:LTD Board
END:VEVENT
BEGIN:VEVENT
DTSTART;TZID=America/Los_Angeles:20251216T150000
DTEND;TZID=America/Los_Angeles:20251216T170000
DTSTAMP:20260421T063950
CREATED:20251112T200125Z
LAST-MODIFIED:20251112T200438Z
UID:10000108-1765897200-1765904400@www.ltd.org
SUMMARY:Sounds of the Season - Cloud Out Loud
DESCRIPTION:Celebrate winter in the heart of Downtown Eugene! Enjoy live music and performances from local artists to bring warmth to your day. Stop by\, take a break\, and experience the sounds of the season with LTD.
URL:https://www.ltd.org/event/sounds-of-the-season-cloud-out-loud/
LOCATION:Customer Service Center\, 1080 Willamette Street\, Eugene\, OR\, 97401\, United States
CATEGORIES:Sounds of the Season
END:VEVENT
BEGIN:VEVENT
DTSTART;TZID=America/Los_Angeles:20251210T100000
DTEND;TZID=America/Los_Angeles:20251210T110000
DTSTAMP:20260421T063950
CREATED:20251125T204704Z
LAST-MODIFIED:20251202T222707Z
UID:10000112-1765360800-1765364400@www.ltd.org
SUMMARY:Real Estate Committee Meeting
DESCRIPTION:The Real Estate Committee provides oversight and guidance on Lane Transit District’s real estate activities\, ensuring that property decisions support the agency’s long-term mobility\, operational\, and financial goals. The Committee reviews and advises on matters such as property acquisitions\, dispositions\, leases\, easements\, development opportunities\, and site planning for transit facilities. The Committee may make recommendations to the Board of Directors for actions requiring Board approval.
URL:https://www.ltd.org/event/real-estate-committee-meeting/
LOCATION:Next Stop Center\, 1099 Olive Street\, Eugene\, OR\, 97401\, United States
CATEGORIES:Meetings
END:VEVENT
BEGIN:VEVENT
DTSTART;TZID=America/Los_Angeles:20251209T180000
DTEND;TZID=America/Los_Angeles:20251209T190000
DTSTAMP:20260421T063950
CREATED:20251108T005428Z
LAST-MODIFIED:20251202T192922Z
UID:10000105-1765303200-1765306800@www.ltd.org
SUMMARY:Bylaws Committee Meeting
DESCRIPTION:The Bylaws Committee meets at an ad-hoc basis to review and recommend updates to LTD’s governing documents\, including the Board and Committee Bylaws. This work helps ensure that LTD’s governance structure remains current\, compliant\, and aligned with best practices for public agencies. Bylaws Committee Meetings are open to the public\, with agendas and materials provided in advance to support transparency and engagement in LTD’s organizational governance.
URL:https://www.ltd.org/event/bylaws-committee-meeting/
LOCATION:Next Stop Center\, 1099 Olive Street\, Eugene\, OR\, 97401\, United States
CATEGORIES:Bylaws Committee
END:VEVENT
BEGIN:VEVENT
DTSTART;TZID=America/Los_Angeles:20251209T173000
DTEND;TZID=America/Los_Angeles:20251209T183000
DTSTAMP:20260421T063950
CREATED:20250820T010348Z
LAST-MODIFIED:20251028T170541Z
UID:10000025-1765301400-1765305000@www.ltd.org
SUMMARY:CANCELED: Finance Committee
DESCRIPTION:The Finance Committee provides oversight and guidance on Lane Transit District’s financial health and budgeting. The committee reviews long-range financial planning\, program performance\, and expenditures\, and it makes recommendations on all contracts valued at $250\,000 or more. Recommendations from the committee help inform Board decisions on budgets\, capital projects\, and long-term financial planning.
URL:https://www.ltd.org/event/finance-committee-2/
LOCATION:Next Stop Center\, 1099 Olive Street\, Eugene\, OR\, 97401\, United States
CATEGORIES:Finance Committee
END:VEVENT
BEGIN:VEVENT
DTSTART;TZID=America/Los_Angeles:20251209T150000
DTEND;TZID=America/Los_Angeles:20251209T170000
DTSTAMP:20260421T063950
CREATED:20251112T195935Z
LAST-MODIFIED:20251112T200412Z
UID:10000107-1765292400-1765299600@www.ltd.org
SUMMARY:Sounds of the Season - Jen Sennett
DESCRIPTION:Celebrate winter in the heart of Downtown Eugene! Enjoy live music and performances from local artists to bring warmth to your day. Stop by\, take a break\, and experience the sounds of the season with LTD.
URL:https://www.ltd.org/event/sounds-of-the-season-jen-sennett/
LOCATION:Customer Service Center\, 1080 Willamette Street\, Eugene\, OR\, 97401\, United States
CATEGORIES:Sounds of the Season
END:VEVENT
BEGIN:VEVENT
DTSTART;TZID=America/Los_Angeles:20251203T140000
DTEND;TZID=America/Los_Angeles:20251203T140000
DTSTAMP:20260421T063950
CREATED:20251003T191523Z
LAST-MODIFIED:20251003T191523Z
UID:10000030-1764770400-1764770400@www.ltd.org
SUMMARY:Winter Rider Appreciation
DESCRIPTION:We love our riders—and every few months\, we like to show it! At our Rider Appreciation pop-up events\, LTD’s Marketing team sets up a table with swag\, snacks\, and a chance to connect with you. Swing by\, grab a treat\, and pick up some LTD gear as our way of saying thanks for riding. Each pop-up brings a little something different—like raffles\, special promotions\, or surprise giveaways—so you never know what you might find. Keep an eye out for us at Eugene and Springfield Stations!
URL:https://www.ltd.org/event/winter-rider-appreciation-2/
LOCATION:Ford Alumni Center\, 1720 E 13th Ave\, Eugene\, OR\, 97403\, United States
CATEGORIES:Rider Appreciation
END:VEVENT
BEGIN:VEVENT
DTSTART;TZID=America/Los_Angeles:20251202T170000
DTEND;TZID=America/Los_Angeles:20251202T183000
DTSTAMP:20260421T063950
CREATED:20251125T204239Z
LAST-MODIFIED:20251125T204239Z
UID:10000111-1764694800-1764700200@www.ltd.org
SUMMARY:STIF Advisory Committee Meeting
DESCRIPTION:Pursuant to Oregon Administrative Rule (“OAR”) 732-040-0030\, the Lane Transit District Board of Directors shall appoint a State Transportation Improvement Fund (STIF) Committee as an advisory committee for the purpose of advising and assisting the District in carrying out the purposes of the Statewide Transportation Improvement Fund and prioritizing projects to be funded by population-based and employer-based STIF moneys received by the District. The Committee may also advise the District regarding the opportunities to coordinate STIF-funded Projects with other local or regional transportation programs and services to improve transportation service delivery and reduce gaps in service.
URL:https://www.ltd.org/event/stif-advisory-committee-meeting/
LOCATION:Next Stop Center\, 1099 Olive Street\, Eugene\, OR\, 97401\, United States
CATEGORIES:STIF Advisory Committee
END:VEVENT
BEGIN:VEVENT
DTSTART;TZID=America/Los_Angeles:20251202T150000
DTEND;TZID=America/Los_Angeles:20251202T170000
DTSTAMP:20260421T063950
CREATED:20251112T194358Z
LAST-MODIFIED:20251112T200354Z
UID:10000106-1764687600-1764694800@www.ltd.org
SUMMARY:Sounds of the Season - Dakota Harris
DESCRIPTION:Celebrate winter in the heart of Downtown Eugene! Enjoy live music and performances from local artists to bring warmth to your day. Stop by\, take a break\, and experience the sounds of the season with LTD.
URL:https://www.ltd.org/event/sounds-of-the-season-dakota-harris/
LOCATION:Customer Service Center\, 1080 Willamette Street\, Eugene\, OR\, 97401\, United States
CATEGORIES:Events,Sounds of the Season
END:VEVENT
BEGIN:VEVENT
DTSTART;TZID=America/Los_Angeles:20251202T140000
DTEND;TZID=America/Los_Angeles:20251202T140000
DTSTAMP:20260421T063950
CREATED:20251003T191522Z
LAST-MODIFIED:20251003T191522Z
UID:10000029-1764684000-1764684000@www.ltd.org
SUMMARY:Winter Rider Appreciation
DESCRIPTION:We love our riders—and every few months\, we like to show it! At our Rider Appreciation pop-up events\, LTD’s Marketing team sets up a table with swag\, snacks\, and a chance to connect with you. Swing by\, grab a treat\, and pick up some LTD gear as our way of saying thanks for riding. Each pop-up brings a little something different—like raffles\, special promotions\, or surprise giveaways—so you never know what you might find. Keep an eye out for us at Eugene and Springfield Stations!
URL:https://www.ltd.org/event/winter-rider-appreciation/
LOCATION:Ford Alumni Center\, 1720 E 13th Ave\, Eugene\, OR\, 97403\, United States
CATEGORIES:Rider Appreciation
END:VEVENT
BEGIN:VEVENT
DTSTART;TZID=America/Los_Angeles:20251128T000000
DTEND;TZID=America/Los_Angeles:20251128T235959
DTSTAMP:20260421T063950
CREATED:20251008T183611Z
LAST-MODIFIED:20251008T183611Z
UID:10000057-1764288000-1764374399@www.ltd.org
SUMMARY:Day After Thanksgiving
DESCRIPTION:Bus Services: Regular Schedules\nAdministrative Offices: Closed\nEugene Customer Service Center: Regular Hours\nSpringfield Customer Service Center: Regular Hours
URL:https://www.ltd.org/event/day-after-thanksgiving/2025-11-28/
LOCATION:OR
CATEGORIES:Holidays
END:VEVENT
BEGIN:VEVENT
DTSTART;TZID=America/Los_Angeles:20251127T000000
DTEND;TZID=America/Los_Angeles:20251127T235959
DTSTAMP:20260421T063950
CREATED:20251008T183259Z
LAST-MODIFIED:20251008T183345Z
UID:10000052-1764201600-1764287999@www.ltd.org
SUMMARY:Thanksgiving Day
DESCRIPTION:Bus Services: No Service\nAdministrative Offices: Closed\nEugene Customer Service Center: Closed\nSpringfield Customer Service Center: Closed
URL:https://www.ltd.org/event/thanksgiving-day/2025-11-27/
LOCATION:OR
CATEGORIES:Holidays
END:VEVENT
BEGIN:VEVENT
DTSTART;TZID=America/Los_Angeles:20251119T173000
DTEND;TZID=America/Los_Angeles:20251119T190000
DTSTAMP:20260421T063950
CREATED:20250820T010212Z
LAST-MODIFIED:20251120T010909Z
UID:10000024-1763573400-1763578800@www.ltd.org
SUMMARY:LTD Board
DESCRIPTION:The Lane Transit District (LTD) Board of Directors meets monthly to discuss transit operations\, review strategic initiatives\, and make decisions that shape public transportation in our community. Meetings include updates from the CEO and committees\, public comment opportunities\, and Board action on policies\, contracts\, and service improvements. All meetings are open to the public and accessible online or in person\, ensuring transparency and community engagement in LTD’s decision-making.
URL:https://www.ltd.org/event/ltd-board-3/
LOCATION:Glenwood Administrative Offices\, 3500 East 17th Avenue\, Eugene\, OR\, 97403\, United States
CATEGORIES:LTD Board
END:VEVENT
BEGIN:VEVENT
DTSTART;TZID=America/Los_Angeles:20251118T173000
DTEND;TZID=America/Los_Angeles:20251118T193000
DTSTAMP:20260421T063951
CREATED:20250820T005846Z
LAST-MODIFIED:20251111T012516Z
UID:10000023-1763487000-1763494200@www.ltd.org
SUMMARY:Strategic Planning Committee
DESCRIPTION:The Strategic Planning Committee (SPC) advises the LTD Board on long-term transit planning\, focusing on improving service reliability\, connections\, and access for all riders\, including transit-dependent communities. The committee includes LTD Board members\, local government representatives\, and community stakeholders\, ensuring diverse perspectives guide future transit investments. Meetings are held bi-monthly and are open to the public. This meeting was originally scheduled for November 4.
URL:https://www.ltd.org/event/strategic-planning-committee-2/
LOCATION:Next Stop Center\, 1099 Olive Street\, Eugene\, OR\, 97401\, United States
CATEGORIES:Strategic Planning Committtee
END:VEVENT
BEGIN:VEVENT
DTSTART;TZID=America/Los_Angeles:20251114T150000
DTEND;TZID=America/Los_Angeles:20251114T160000
DTSTAMP:20260421T063951
CREATED:20251108T005208Z
LAST-MODIFIED:20251112T224958Z
UID:10000104-1763132400-1763136000@www.ltd.org
SUMMARY:Special Board Meeting
DESCRIPTION:Special Board Meetings are held as needed to address time-sensitive or urgent matters that require Board action outside of the regular monthly meeting schedule. These meetings follow all Oregon Public Meetings Law requirements and include opportunities for public observation and participation. Notices\, agendas\, and materials are posted in advance to ensure transparency and continued public access to LTD’s decision-making process.
URL:https://www.ltd.org/event/special-board-meeting/
LOCATION:Next Stop Center\, 1099 Olive Street\, Eugene\, OR\, 97401\, United States
CATEGORIES:LTD Board
END:VEVENT
BEGIN:VEVENT
DTSTART;TZID=America/Los_Angeles:20251112T173000
DTEND;TZID=America/Los_Angeles:20251112T193000
DTSTAMP:20260421T063951
CREATED:20251028T171020Z
LAST-MODIFIED:20251106T005154Z
UID:10000103-1762968600-1762975800@www.ltd.org
SUMMARY:Budget Committee Meeting
DESCRIPTION:The Budget Committee meets on an as-needed basis but generally convenes in the fourth quarter of each fiscal year in time to provide advice to the Board of Directors prior to the adoption of an annual budget. The Committee is composed of all seven Board members and seven citizen members. Each LTD Board member selects one citizen member to fill a term of three years.
URL:https://www.ltd.org/event/budget-committee-meeting/
LOCATION:Glenwood Administrative Offices\, 3500 East 17th Avenue\, Eugene\, OR\, 97403\, United States
CATEGORIES:Budget Committee
END:VEVENT
BEGIN:VEVENT
DTSTART;TZID=America/Los_Angeles:20251111T000000
DTEND;TZID=America/Los_Angeles:20251111T235959
DTSTAMP:20260421T063951
CREATED:20251008T183124Z
LAST-MODIFIED:20251008T183124Z
UID:10000047-1762819200-1762905599@www.ltd.org
SUMMARY:Veterans Day
DESCRIPTION:Bus Services: Regular Schedules\nAdministrative Offices: Regular Hours\nEugene Customer Service Center: Regular Hours\nSpringfield Customer Service Center: Regular Hours
URL:https://www.ltd.org/event/veterans-day/2025-11-11/
LOCATION:OR
CATEGORIES:Holidays
END:VEVENT
BEGIN:VEVENT
DTSTART;TZID=America/Los_Angeles:20251025T120000
DTEND;TZID=America/Los_Angeles:20251025T160000
DTSTAMP:20260421T063951
CREATED:20251003T191521Z
LAST-MODIFIED:20251008T175018Z
UID:10000028-1761393600-1761408000@www.ltd.org
SUMMARY:Halloween Downtown - Groovy Graveyard Express
DESCRIPTION:Take the bus to Downtown Eugene for the annual Halloween Downtown event\, bringing together local businesses and community groups for a free\, family-friendly\, not-too-spooky celebration. Stop by LTD’s Eugene Station for a Groovy Graveyard Express and explore our decorated bus\, trick-or-treat\, and play games to win prizes. Stick around for a free interactive art activity or buy cotton candy from a local vendor. After you visit the Groovy Graveyard Express at Eugene Station\, head to Broadway for more festivities!
URL:https://www.ltd.org/event/halloween-downtown-groovy-graveyard-express/
LOCATION:Rosa Parks Plaza\, 10th Avenue & Olive Street\, Eugene\, OR\, 97401\, United States
CATEGORIES:Community Events
ATTACH;FMTTYPE=image/png:https://www.ltd.org/wp-content/uploads/2025/10/10-2025-sm-groovy-graveyard-hero.png
END:VEVENT
BEGIN:VEVENT
DTSTART;TZID=America/Los_Angeles:20251021T170000
DTEND;TZID=America/Los_Angeles:20251021T183000
DTSTAMP:20260421T063951
CREATED:20251014T185025Z
LAST-MODIFIED:20251014T185025Z
UID:10000102-1761066000-1761071400@www.ltd.org
SUMMARY:Statewide Transportation Improvement Fund (STIF) Advisory Committee
DESCRIPTION:Pursuant to Oregon Administrative Rule (“OAR”) 732-040-0030\, the Lane Transit District Board of Directors shall appoint a State Transportation Improvement Fund (STIF) Committee as an advisory committee for the purpose of advising and assisting the District in carrying out the purposes of the Statewide Transportation Improvement Fund and prioritizing projects to be funded by population-based and employer-based STIF moneys received by the District. The Committee may also advise the District regarding the opportunities to coordinate STIF-funded Projects with other local or regional transportation programs and services to improve transportation service delivery and reduce gaps in service.
URL:https://www.ltd.org/event/statewide-transportation-improvement-fund-stif-advisory-committee/
LOCATION:Next Stop Center\, 1099 Olive Street\, Eugene\, OR\, 97401\, United States
CATEGORIES:STIF Advisory Committee
END:VEVENT
BEGIN:VEVENT
DTSTART;TZID=America/Los_Angeles:20251015T173000
DTEND;TZID=America/Los_Angeles:20251015T190000
DTSTAMP:20260421T063951
CREATED:20250820T005654Z
LAST-MODIFIED:20251008T173247Z
UID:10000022-1760549400-1760554800@www.ltd.org
SUMMARY:LTD Board
DESCRIPTION:The Lane Transit District (LTD) Board of Directors meets monthly to discuss transit operations\, review strategic initiatives\, and make decisions that shape public transportation in our community. Meetings include updates from the CEO and committees\, public comment opportunities\, and Board action on policies\, contracts\, and service improvements. All meetings are open to the public and accessible online or in person\, ensuring transparency and community engagement in LTD’s decision-making. Watch live on channel 21 (viewing only\, no participation) or via the links below.
URL:https://www.ltd.org/event/ltd-board-2/
LOCATION:Springfield Chamber of Commerce\, 101 S. A Street\, Springfield\, OR\, 97477\, United States
CATEGORIES:LTD Board
END:VEVENT
BEGIN:VEVENT
DTSTART;TZID=America/Los_Angeles:20251013T000000
DTEND;TZID=America/Los_Angeles:20251013T235959
DTSTAMP:20260421T063951
CREATED:20251008T182950Z
LAST-MODIFIED:20251008T182950Z
UID:10000042-1760313600-1760399999@www.ltd.org
SUMMARY:Indigenous Peoples’ Day
DESCRIPTION:Bus Services: Regular Schedules\nAdministrative Offices: Regular Hours\nEugene Customer Service Center: Regular Hours\nSpringfield Customer Service Center: Regular Hours
URL:https://www.ltd.org/event/indigenous-peoples-day/2025-10-13/
LOCATION:OR
CATEGORIES:Holidays
END:VEVENT
BEGIN:VEVENT
DTSTART;TZID=America/Los_Angeles:20251007T170000
DTEND;TZID=America/Los_Angeles:20251007T190000
DTSTAMP:20260421T063951
CREATED:20250926T172716Z
LAST-MODIFIED:20250930T072802Z
UID:10000027-1759856400-1759863600@www.ltd.org
SUMMARY:2025 LTD State of the District
DESCRIPTION:What’s needed to create a better transportation system for everyone? Join Lane Transit District\, community partners\, and business leaders for a discussion about the future of transit at the State of the District event. 5:00 – 6:00: Doors Open\, Hors d’oeuvres & No-host Bar 6:00 – 7:00: LTD Update\, Future of Transit Panel Click here to RSVP
URL:https://www.ltd.org/event/2025-ltd-state-of-the-district/
LOCATION:Ford Alumni Center\, 1720 E 13th Ave\, Eugene\, OR\, 97403\, United States
CATEGORIES:Community Events,Events
ATTACH;FMTTYPE=image/jpeg:https://www.ltd.org/wp-content/uploads/2025/09/sotd-2025.jpg
END:VEVENT
BEGIN:VEVENT
DTSTART;TZID=America/Los_Angeles:20250917T173000
DTEND;TZID=America/Los_Angeles:20250917T190000
DTSTAMP:20260421T063951
CREATED:20250820T005239Z
LAST-MODIFIED:20250820T005239Z
UID:10000020-1758130200-1758135600@www.ltd.org
SUMMARY:LTD Board
DESCRIPTION:The Lane Transit District (LTD) Board of Directors meets monthly to discuss transit operations\, review strategic initiatives\, and make decisions that shape public transportation in our community. Meetings include updates from the CEO and committees\, public comment opportunities\, and Board action on policies\, contracts\, and service improvements. All meetings are open to the public and accessible online or in person\, ensuring transparency and community engagement in LTD’s decision-making.
URL:https://www.ltd.org/event/ltd-board/
LOCATION:Springfield Chamber of Commerce\, 101 S. A Street\, Springfield\, OR\, 97477\, United States
CATEGORIES:LTD Board
END:VEVENT
BEGIN:VEVENT
DTSTART;TZID=America/Los_Angeles:20250914T173000
DTEND;TZID=America/Los_Angeles:20250914T183000
DTSTAMP:20260421T063951
CREATED:20250820T005541Z
LAST-MODIFIED:20250820T005541Z
UID:10000021-1757871000-1757874600@www.ltd.org
SUMMARY:Finance Committee
DESCRIPTION:The Finance Committee provides oversight and guidance on Lane Transit District’s financial health and budgeting. The committee reviews long-range financial planning\, program performance\, and expenditures\, and it makes recommendations on all contracts valued at $250\,000 or more. Recommendations from the committee help inform Board decisions on budgets\, capital projects\, and long-term financial planning.
URL:https://www.ltd.org/event/finance-committee/
LOCATION:Next Stop Center\, 1099 Olive Street\, Eugene\, OR\, 97401\, United States
CATEGORIES:Finance Committee
END:VEVENT
BEGIN:VEVENT
DTSTART;TZID=America/Los_Angeles:20250912T150000
DTEND;TZID=America/Los_Angeles:20250912T180000
DTSTAMP:20260421T063951
CREATED:20250813T014401Z
LAST-MODIFIED:20250814T081834Z
UID:10000016-1757689200-1757700000@www.ltd.org
SUMMARY:Performance at the Plaza - Masumi Timson & Joseph Harchanko
DESCRIPTION:A stunning fusion of East and West\, this duo blends traditional Japanese Koto with Western cello in a genre-bending performance. Expect tango\, jazz\, blues\, and contemporary compositions that transcend borders and stir the soul.
URL:https://www.ltd.org/event/performance-at-the-plaza-masumi-timson-joseph-harchanko/
LOCATION:Rosa Parks Plaza\, 10th Avenue & Olive Street\, Eugene\, OR\, 97401\, United States
CATEGORIES:Community Events
END:VEVENT
BEGIN:VEVENT
DTSTART;TZID=America/Los_Angeles:20250909T173000
DTEND;TZID=America/Los_Angeles:20250909T193000
DTSTAMP:20260421T063951
CREATED:20250820T004937Z
LAST-MODIFIED:20250820T004937Z
UID:10000019-1757439000-1757446200@www.ltd.org
SUMMARY:Strategic Planning Committee
DESCRIPTION:The Strategic Planning Committee (SPC) advises the LTD Board on long-term transit planning\, focusing on improving service reliability\, connections\, and access for all riders\, including transit-dependent communities. The committee includes LTD Board members\, local government representatives\, and community stakeholders\, ensuring diverse perspectives guide future transit investments. Meetings are held bi-monthly and are open to the public.
URL:https://www.ltd.org/event/strategic-planning-committee/
LOCATION:Next Stop Center\, 1099 Olive Street\, Eugene\, OR\, 97401\, United States
CATEGORIES:Strategic Planning Committtee
END:VEVENT
BEGIN:VEVENT
DTSTART;TZID=America/Los_Angeles:20250905T140000
DTEND;TZID=America/Los_Angeles:20250905T170000
DTSTAMP:20260421T063951
CREATED:20250813T014108Z
LAST-MODIFIED:20250813T014108Z
UID:10000015-1757080800-1757091600@www.ltd.org
SUMMARY:Performance at the Plaza - Rock n' Rewind
DESCRIPTION:Rock ‘n Rewind is a Eugene-based band known for energizing crowds with classic rock and blues hits from the 1960s and ’70s. With six veteran musicians and powerful vocals\, they cover everything from The Beatles and Janis Joplin to deep-cut soul and British invasion favorites. Their lively shows have made them a Northwest favorite for dance floors of all sizes. Plan your trip and ride on over!
URL:https://www.ltd.org/event/performance-at-the-plaza-rock-n-rewind/
LOCATION:Rosa Parks Plaza\, 10th Avenue & Olive Street\, Eugene\, OR\, 97401\, United States
CATEGORIES:Community Events
END:VEVENT
END:VCALENDAR